Workbook

Sheet GRANTEE INFO & INSTRUCTIONS
A1: WV Bureau for Behavioral Health - SOR Program Report
G2: Fiscal Year: | I2: 2026 (09/30/2025 - 09/29/2026)
A3: 1) GRANTEE - PROGRAM INFORMATION:
A4: Program: | E4: SUD Mobile Unit | L4: Grantee Name: | O4: LEGAL NAME OF AGENCY
A5: Physical Address of Program: | E5: Physical location of the program | L5: Contact Name(s): | O5: Contact Name or Names
L6: Contact Phone(s)/Email:
L7: Grant Number: | O7: G26****
A8: Month/Year Being Reported | E8: Q1 - Oct Nov Dec | I8: 2025 | L8: Program Code: | O8: 1000****
A9: 2 ) INSTRUCTIONS AND KEY INFORMATION
A10: This form is designed to be used for the entire fiscal year, even if the grant is delayed. Invoice payments may be withheld if reports are not submitted on time.
A11: Q1 Months | C11: Due By | F11: Q2 Months | H11: Due By | K11: Q3 Months | M11: Due By | P11: Q4 Months | R11: Due By
A12: OCT, NOV, & DEC | C12: 46047 | F12: JAN, FEB, & MAR | H12: 46137 | K12: APR, MAY, & JUN | M12: 46228 | P12: JUL, AUG, & SEP | R12: 46320
A13: All forms must be emailed to bbhreporting@wv.gov (with SOR Program Manager cc'd) by the 25th of the month following the end of each quarter.
A14: Include the Grant Number and Program Name in the subject line of the e-mail
A15: Supplemental Government Performance and Results Act (GPRA) Data
A16: SAMHSA requires BBH to report additional data points for activities funded by the SOR program, which are not part of the standard GPRA or this report.
A17: If SOR funds are being used for distributing opioid reversal kits, drug testing strips, or providing OUD/StUD-related education or training,
A18: all WV SOR grantees are required to report this data quarterly with the associated survey (Supplemental GPRA)
A19: Use the following link to report Supplemental GPRA Data: | M19: https://forms.gle/YLU4P4MypHLJutbRA
A21: Program Narratives Tab
A22: Write one or two sentences highlighting the latest developments in the program each month. Do not simply cut and paste, one month to another
B23: 1) Describe progress implementing required activities, including accomplishments, challenges and barriers, and adjustments made to address these challenges
B24: 2) Describe progress achieved in addressing the needs of the populations of focus
B25: 3) Describe problems encountered serving the populations of focus and efforts to overcome them
A27: Montly Tallies Tab
A28: * These must be unduplicated counts. For instance, if one client gets Methadone and it changes later to Buprenorphine, they must get counted only once, under "More than one MOUD"
B29: 1) Record the number of unduplicated clients (once per contract year) who have received treatment services for OUD in blue cells
C30: C. Methadone
C31: D. Buprenorphine
C32: E. Injectable Naltrexone
C33: F. More than one MOUD
B34: 2) Record the number of unduplicated clients (once per contract year) who have received any treatment services for stimulant use disorder (StUD) in blue cells
C35: H. Total of all types of treatment for StUD including contingency managementy (CM), group therapy, counseling, etc.
A37: Contingenct Management (CM) Tab
A38: * This tab applies only to agencies providing Contingency Management (CM) services for Stimulant Use Disorder (StUD) and/or Opiate Use Disorder (OUD)
A39: ** At the top of the tab, please write the type of incentive (i.e., gift card) and the incentivized behavior (i.e., abstinence, attendance at treatment sessions, etc.)
B40: 1) Column C. "Number of unique individuals receiving CM services." Record the monthly total of unduplicated individuals (once per contract year) who received CM services
B41: 4) Column D. "Average incentive amount received per person." Record the average total dollar amount (or value) given to each individual for all clients receiving CM this month
B42: 5) Column E. "The number of people who discontinued CM services for an unplanned reason during the CM treatment intervention." Record the monthly total of unduplicated individuals who stopped CM services before completion
B43: 6) Column F. "Number of people who continued CM treatment to completion." Record the monthly total of unduplicated individuals who completed CM treatment
...

Sheet PROGRAM NARRATIVES
A1: Provide the following details to demonstrate the work that's being done each month of the funding year. Do not describe the program or cut and paste.
A2: OCTOBER | B2: 2025 | C2: 1) Describe progress implementing required activities, including accomplishments, challenges and barriers, and adjustments made to address these challenges
C4: 2) Describe progress achieved in addressing the needs of the populations of focus
C6: 3) Describe problems encountered serving the populations of focus and efforts to overcome them
A9: NOVEMBER | B9: 2025 | C9: 1) Describe progress implementing required activities, including accomplishments, challenges and barriers, and adjustments made to address these challenges
C11: 2) Describe progress achieved in addressing the needs of the populations of focus
C13: 3) Describe problems encountered serving the populations of focus and efforts to overcome them
A16: DECEMBER | B16: 2025 | C16: 1) Describe progress implementing required activities, including accomplishments, challenges and barriers, and adjustments made to address these challenges
C18: 2) Describe progress achieved in addressing the needs of the populations of focus
C20: 3) Describe problems encountered serving the populations of focus and efforts to overcome them
A23: JANUARY | B23: 2026 | C23: 1) Describe progress implementing required activities, including accomplishments, challenges and barriers, and adjustments made to address these challenges
C25: 2) Describe progress achieved in addressing the needs of the populations of focus
C27: 3) Describe problems encountered serving the populations of focus and efforts to overcome them
A30: FEBRUARY | B30: 2026 | C30: 1) Describe progress implementing required activities, including accomplishments, challenges and barriers, and adjustments made to address these challenges
C32: 2) Describe progress achieved in addressing the needs of the populations of focus
C34: 3) Describe problems encountered serving the populations of focus and efforts to overcome them
A37: MARCH | B37: 2026 | C37: 1) Describe progress implementing required activities, including accomplishments, challenges and barriers, and adjustments made to address these challenges
C39: 2) Describe progress achieved in addressing the needs of the populations of focus
C41: 3) Describe problems encountered serving the populations of focus and efforts to overcome them
A44: APRIL | B44: 2026 | C44: 1) Describe progress implementing required activities, including accomplishments, challenges and barriers, and adjustments made to address these challenges
C46: 2) Describe progress achieved in addressing the needs of the populations of focus
C48: 3) Describe problems encountered serving the populations of focus and efforts to overcome them
A51: MAY | B51: 2026 | C51: 1) Describe progress implementing required activities, including accomplishments, challenges and barriers, and adjustments made to address these challenges
C53: 2) Describe progress achieved in addressing the needs of the populations of focus
C55: 3) Describe problems encountered serving the populations of focus and efforts to overcome them
A58: JUNE | B58: 2026 | C58: 1) Describe progress implementing required activities, including accomplishments, challenges and barriers, and adjustments made to address these challenges
C60: 2) Describe progress achieved in addressing the needs of the populations of focus
C62: 3) Describe problems encountered serving the populations of focus and efforts to overcome them
A65: JULY | B65: 2026 | C65: 1) Describe progress implementing required activities, including accomplishments, challenges and barriers, and adjustments made to address these challenges
C67: 2) Describe progress achieved in addressing the needs of the populations of focus
C69: 3) Describe problems encountered serving the populations of focus and efforts to overcome them
A72: AUGUST | B72: 2026 | C72: 1) Describe progress implementing required activities, including accomplishments, challenges and barriers, and adjustments made to address these challenges
C74: 2) Describe progress achieved in addressing the needs of the populations of focus
C76: 3) Describe problems encountered serving the populations of focus and efforts to overcome them
A79: SEPTEMBER | B79: 2026 | C79: 1) Describe progress implementing required activities, including accomplishments, challenges and barriers, and adjustments made to address these challenges
C81: 2) Describe progress achieved in addressing the needs of the populations of focus
C83: 3) Describe problems encountered serving the populations of focus and efforts to overcome them

Sheet MONTHLY TALLIES
A1: Monthly Tallies
A2: Reporting Period | C2: Number of unduplicated clients who have received treatment services for OUD | I2: Number of unduplicated clients who received treatment for StUD
C3: Methadone | D3: Buprenorphine | E3: Injectible Naltrextone | F3: More than one MOUD | G3: Total monthly MOUD (will autopopulate) | I3: Any type, including CM which is detailed on the next tab
A4: October | B4: 2025 | G4: =SUM(C4:F4) -> 0
A5: November | B5: 2025 | G5: =SUM(C5:F5) -> 0
A6: December | B6: 2025 | G6: =SUM(C6:F6) -> 0
A7: January | B7: 2026 | G7: =SUM(C7:F7) -> 0
A8: February | B8: 2026 | G8: =SUM(C8:F8) -> 0
A9: March | B9: 2026 | G9: =SUM(C9:F9) -> 0
A10: April | B10: 2026 | G10: =SUM(C10:F10) -> 0
A11: May | B11: 2026 | G11: =SUM(C11:F11) -> 0
A12: June | B12: 2026 | G12: =SUM(C12:F12) -> 0
A13: July | B13: 2026 | G13: =SUM(C13:F13) -> 0
A14: August | B14: 2026 | G14: =SUM(C14:F14) -> 0
A15: September | B15: 2026 | G15: =SUM(C15:F15) -> 0

Sheet CM - if applicable
A1: What incentive is provided in your CM program?
A2: What behavior is being incentivized?
A3: For each month of the funding period, provide the following data for Contingency Management (CM)
A4: Reporting Period | C4: Number of unique (unduplicated) individuals receiving CM services | D4: Average incentive amount received per person | E4: The number of people who discontinued CM services for an unplanned reason during the CM treatment intervention | F4: Number of people who continued CM treatment to completion
A5: October | B5: 2025
A6: November | B6: 2025
A7: December | B7: 2025
A8: January | B8: 2026
A9: February | B9: 2026
A10: March | B10: 2026
A11: April | B11: 2026
A12: May | B12: 2026
A13: June | B13: 2026
A14: July | B14: 2026
A15: August | B15: 2026
A16: September | B16: 2026

Sheet PRSS - if applicable
A1: Reporting Period | C1: Number of unduplicated clients who have received the following Peer Recovery Support Services: | J1: Total New Program Admissions (will auto-populate)
A2: Month | B2: Year | C2: Recovery Housing | D2: Recovery Coaching / Peer Coaching | E2: Employment Services | F2: Other Recovery Support Services | G2: Specify Other Recovery Support Services [such as Transportation and Referral for Services (Case Management)]
A3: Oct | B3: 2025 | J3: =SUM(C3:F3) -> 0
A4: Nov | B4: 2025 | J4: =SUM(C4:F4) -> 0
A5: Dec | B5: 2025 | J5: =SUM(C5:F5) -> 0
A6: Jan | B6: 2026 | J6: =SUM(C6:F6) -> 0
A7: Feb | B7: 2026 | J7: =SUM(C7:F7) -> 0
A8: Mar | B8: 2026 | J8: =SUM(C8:F8) -> 0
A9: Apr | B9: 2026 | J9: =SUM(C9:F9) -> 0
A10: May | B10: 2026 | J10: =SUM(C10:F10) -> 0
A11: Jun | B11: 2026 | J11: =SUM(C11:F11) -> 0
A12: Jul | B12: 2026 | J12: =SUM(C12:F12) -> 0
A13: Aug | B13: 2026 | J13: =SUM(C13:F13) -> 0
A14: Sep | B14: 2026 | J14: =SUM(C14:F14) -> 0
B15: Totals: | C15: =SUM(C3:C14) -> 0 | D15: =SUM(D3:D14) -> 0 | E15: =SUM(E3:E14) -> 0 | F15: =SUM(F3:F14) -> 0 | G15: NA | J15: =SUM(J3:J14) -> 0

Sheet SOR use only
A1: Reporting Period | C1: Number of unduplicated clients who have received the following Peer Recovery Support Services (RSS): | H1: Total Program Admissions | J1: Notes:
A2: Month | B2: Year | C2: Recovery Housing | D2: Recovery Coaching / Peer Coaching | E2: Employment Services | F2: Other RSS | G2: Specify Other RSS | J2: List of other recovery support services specified by grantee:
A3: Oct | B3: 2025 | C3: ='PRSS - if applicable'!C3 -> 0 | D3: ='PRSS - if applicable'!D3 -> 0 | E3: ='PRSS - if applicable'!E3 -> 0 | F3: ='PRSS - if applicable'!F3 -> 0 | G3: ='PRSS - if applicable'!G3 -> 0 | H3: =SUM(C3:F3) -> 0 | J3: 1
A4: Nov | B4: 2025 | C4: ='PRSS - if applicable'!C4 -> 0 | D4: ='PRSS - if applicable'!D4 -> 0 | E4: ='PRSS - if applicable'!E4 -> 0 | F4: ='PRSS - if applicable'!F4 -> 0 | G4: ='PRSS - if applicable'!G4 -> 0 | H4: =SUM(C4:F4) -> 0 | J4: 2
A5: Dec | B5: 2025 | C5: ='PRSS - if applicable'!C5 -> 0 | D5: ='PRSS - if applicable'!D5 -> 0 | E5: ='PRSS - if applicable'!E5 -> 0 | F5: ='PRSS - if applicable'!F5 -> 0 | G5: ='PRSS - if applicable'!G5 -> 0 | H5: =SUM(C5:F5) -> 0 | J5: 3
A6: Jan | B6: 2026 | C6: ='PRSS - if applicable'!C6 -> 0 | D6: ='PRSS - if applicable'!D6 -> 0 | E6: ='PRSS - if applicable'!E6 -> 0 | F6: ='PRSS - if applicable'!F6 -> 0 | G6: ='PRSS - if applicable'!G6 -> 0 | H6: =SUM(C6:F6) -> 0 | J6: 4
A7: Feb | B7: 2026 | C7: ='PRSS - if applicable'!C7 -> 0 | D7: ='PRSS - if applicable'!D7 -> 0 | E7: ='PRSS - if applicable'!E7 -> 0 | F7: ='PRSS - if applicable'!F7 -> 0 | G7: ='PRSS - if applicable'!G7 -> 0 | H7: =SUM(C7:F7) -> 0 | J7: 5
A8: Mar | B8: 2026 | C8: ='PRSS - if applicable'!C8 -> 0 | D8: ='PRSS - if applicable'!D8 -> 0 | E8: ='PRSS - if applicable'!E8 -> 0 | F8: ='PRSS - if applicable'!F8 -> 0 | G8: ='PRSS - if applicable'!G8 -> 0 | H8: =SUM(C8:F8) -> 0 | J8: 6
A9: Apr | B9: 2026 | C9: ='PRSS - if applicable'!C9 -> 0 | D9: ='PRSS - if applicable'!D9 -> 0 | E9: ='PRSS - if applicable'!E9 -> 0 | F9: ='PRSS - if applicable'!F9 -> 0 | G9: ='PRSS - if applicable'!G9 -> 0 | H9: =SUM(C9:F9) -> 0 | J9: 7
A10: May | B10: 2026 | C10: ='PRSS - if applicable'!C10 -> 0 | D10: ='PRSS - if applicable'!D10 -> 0 | E10: ='PRSS - if applicable'!E10 -> 0 | F10: ='PRSS - if applicable'!F10 -> 0 | G10: ='PRSS - if applicable'!G10 -> 0 | H10: =SUM(C10:F10) -> 0 | J10: 8
A11: Jun | B11: 2026 | C11: ='PRSS - if applicable'!C11 -> 0 | D11: ='PRSS - if applicable'!D11 -> 0 | E11: ='PRSS - if applicable'!E11 -> 0 | F11: ='PRSS - if applicable'!F11 -> 0 | G11: ='PRSS - if applicable'!G11 -> 0 | H11: =SUM(C11:F11) -> 0 | J11: 9
A12: Jul | B12: 2026 | C12: ='PRSS - if applicable'!C12 -> 0 | D12: ='PRSS - if applicable'!D12 -> 0 | E12: ='PRSS - if applicable'!E12 -> 0 | F12: ='PRSS - if applicable'!F12 -> 0 | G12: ='PRSS - if applicable'!G12 -> 0 | H12: =SUM(C12:F12) -> 0 | J12: 10
A13: Aug | B13: 2026 | C13: ='PRSS - if applicable'!C13 -> 0 | D13: ='PRSS - if applicable'!D13 -> 0 | E13: ='PRSS - if applicable'!E13 -> 0 | F13: ='PRSS - if applicable'!F13 -> 0 | G13: ='PRSS - if applicable'!G13 -> 0 | H13: =SUM(C13:F13) -> 0 | J13: 11
A14: Sep | B14: 2026 | C14: ='PRSS - if applicable'!C14 -> 0 | D14: ='PRSS - if applicable'!D14 -> 0 | E14: ='PRSS - if applicable'!E14 -> 0 | F14: ='PRSS - if applicable'!F14 -> 0 | G14: ='PRSS - if applicable'!G14 -> 0 | H14: =SUM(C14:F14) -> 0 | J14: 12
B15: Totals: | C15: =SUM(C3:C14) -> 0 | D15: =SUM(D3:D14) -> 0 | E15: =SUM(E3:E14) -> 0 | F15: =SUM(F3:F14) -> 0 | G15: NA | H15: =SUM(H3:H14) -> 0 | J15: 13
J16: 14
B17: Quarterly Reporting Period | D17: Number of unduplicated clients who have received: | H17: Total Program Admissions | J17: 15
D18: Rec. Housing | E18: RC / PC | F18: Em. Services | G18: Other | J18: 16
B19: Quarter 1 | C19: 2025 | D19: =SUM(C3:C5) -> 0 | E19: =SUM(D3:D5) -> 0 | F19: =SUM(E3:E5) -> 0 | G19: =SUM(F3:F5) -> 0 | H19: =SUM(H3:H5) -> 0 | J19: 17
B20: Oct - Dec | J20: 18
B21: Quarter 2 | C21: 2026 | D21: =SUM(C6:C8) -> 0 | E21: =SUM(D6:D8) -> 0 | F21: =SUM(E6:E8) -> 0 | G21: =SUM(F6:F8) -> 0 | H21: =SUM(H6:H8) -> 0 | J21: 19
B22: Jan - Mar | J22: 20
B23: Quarter 3 | C23: 2026 | D23: =SUM(C9:C11) -> 0 | E23: =SUM(D9:D11) -> 0 | F23: =SUM(E9:E11) -> 0 | G23: =SUM(F9:F11) -> 0 | H23: =SUM(H9:H11) -> 0 | J23: 21
B24: Apr - Jun | J24: 22
B25: Quarter 4 | C25: 2026 | D25: =SUM(C12:C14) -> 0 | E25: =SUM(D12:D14) -> 0 | F25: =SUM(E12:E14) -> 0 | G25: =SUM(F12:F14) -> 0 | H25: =SUM(H12:H14) -> 0 | J25: 23
B26: Jul - Sept 29th | J26: 24
J27: 25
A28: Notes: | J28: 26
J29: 27
J30: 28
J31: 29
J32: 30
C34: Methadone | D34: Buprenorphine | E34: Injectible Naltrextone | F34: More than one MOUD | G34: Total receiving MOUD (will autopopulate) | H34: Any type, including CM which is detailed on the next tab
A35: Q1 | C35: =SUM('MONTHLY TALLIES'!C4:C6) -> 0 | D35: =SUM('MONTHLY TALLIES'!D4:D6) -> 0 | E35: =SUM('MONTHLY TALLIES'!E4:E6) -> 0 | F35: =SUM('MONTHLY TALLIES'!F4:F6) -> 0 | G35: =SUM(C35:F35) -> 0 | H35: =SUM('MONTHLY TALLIES'!I4:I6) -> 0
A36: Q2 | C36: =SUM('MONTHLY TALLIES'!C7:C9) -> 0 | D36: =SUM('MONTHLY TALLIES'!D7:D9) -> 0 | E36: =SUM('MONTHLY TALLIES'!E7:E9) -> 0 | F36: =SUM('MONTHLY TALLIES'!F7:F9) -> 0 | G36: =SUM(C36:F36) -> 0 | H36: =SUM('MONTHLY TALLIES'!I7) -> 0
A37: Q3 | C37: =SUM('MONTHLY TALLIES'!C10:C12) -> 0 | D37: =SUM('MONTHLY TALLIES'!D10:D12) -> 0 | E37: =SUM('MONTHLY TALLIES'!E10:E12) -> 0 | F37: =SUM('MONTHLY TALLIES'!F10:F12) -> 0 | G37: =SUM(C37:F37) -> 0 | H37: =SUM('MONTHLY TALLIES'!I10:I12) -> 0
A38: Q4 | C38: =SUM('MONTHLY TALLIES'!C13:C15) -> 0 | D38: =SUM('MONTHLY TALLIES'!D13:D15) -> 0 | E38: =SUM('MONTHLY TALLIES'!E13:E15) -> 0 | F38: =SUM('MONTHLY TALLIES'!F13:F15) -> 0 | G38: =SUM(C38:F38) -> 0 | H38: =SUM('MONTHLY TALLIES'!I13:I15) -> 0
C39: =SUM(C35:C38) -> 0 | D39: =SUM(D35:D38) -> 0 | E39: =SUM(E35:E38) -> 0 | F39: =SUM(F35:F38) -> 0 | G39: =SUM(G35:G38) -> 0 | H39: =SUM(H35:H38) -> 0
